Workbook

Sheet Recipe Summary
D2: Run a tighter kitchen. One platform. Total control.
B3: Recipe Costing — Collated Summary
B5: Legend: | C5: Every figure below is pulled live from the recipe cards — nothing to type here.
B6: Target GP % | C6: ='Recipe 1'!H9 -> 0.7
B8: Card | C8: Recipe Name | D8: Category | E8: Yield | F8: Cost/Recipe | G8: Cost/Portion | H8: Sell Price | I8: GP /Portion | J8: GP % | K8: Status
B9: Recipe 1 | C9: =IF('Recipe 1'!C7="","—",'Recipe 1'!C7) -> Sample Recipe - Vanilla Crème | D9: =IF('Recipe 1'!H7="","—",'Recipe 1'!H7) -> Starter | E9: ='Recipe 1'!C9 -> 10 | F9: ='Recipe 1'!F29 -> 9.05 | G9: ='Recipe 1'!F30 -> 0.905 | H9: ='Recipe 1'!F32 -> 3.5 | I9: ='Recipe 1'!F33 -> 2.595 | J9: ='Recipe 1'!F34 -> 0.74142857 | K9: =IF(H9=0,"No Price",IF(J9>=$C$6,"On/Above Target","Below Target")) -> On/Above Target
B10: Recipe 2 | C10: =IF('Recipe 2'!C7="","—",'Recipe 2'!C7) -> — | D10: =IF('Recipe 2'!H7="","—",'Recipe 2'!H7) -> — | E10: ='Recipe 2'!C9 -> 1 | F10: ='Recipe 2'!F29 -> 0 | G10: ='Recipe 2'!F30 -> 0 | H10: ='Recipe 2'!F32 -> 0 | I10: ='Recipe 2'!F33 -> 0 | J10: ='Recipe 2'!F34 -> 0 | K10: =IF(H10=0,"No Price",IF(J10>=$C$6,"On/Above Target","Below Target")) -> No Price
B11: Recipe 3 | C11: =IF('Recipe 3'!C7="","—",'Recipe 3'!C7) -> — | D11: =IF('Recipe 3'!H7="","—",'Recipe 3'!H7) -> — | E11: ='Recipe 3'!C9 -> 1 | F11: ='Recipe 3'!F29 -> 0 | G11: ='Recipe 3'!F30 -> 0 | H11: ='Recipe 3'!F32 -> 0 | I11: ='Recipe 3'!F33 -> 0 | J11: ='Recipe 3'!F34 -> 0 | K11: =IF(H11=0,"No Price",IF(J11>=$C$6,"On/Above Target","Below Target")) -> No Price
B12: Recipe 4 | C12: =IF('Recipe 4'!C7="","—",'Recipe 4'!C7) -> — | D12: =IF('Recipe 4'!H7="","—",'Recipe 4'!H7) -> — | E12: ='Recipe 4'!C9 -> 1 | F12: ='Recipe 4'!F29 -> 0 | G12: ='Recipe 4'!F30 -> 0 | H12: ='Recipe 4'!F32 -> 0 | I12: ='Recipe 4'!F33 -> 0 | J12: ='Recipe 4'!F34 -> 0 | K12: =IF(H12=0,"No Price",IF(J12>=$C$6,"On/Above Target","Below Target")) -> No Price
B13: Recipe 5 | C13: =IF('Recipe 5'!C7="","—",'Recipe 5'!C7) -> — | D13: =IF('Recipe 5'!H7="","—",'Recipe 5'!H7) -> — | E13: ='Recipe 5'!C9 -> 1 | F13: ='Recipe 5'!F29 -> 0 | G13: ='Recipe 5'!F30 -> 0 | H13: ='Recipe 5'!F32 -> 0 | I13: ='Recipe 5'!F33 -> 0 | J13: ='Recipe 5'!F34 -> 0 | K13: =IF(H13=0,"No Price",IF(J13>=$C$6,"On/Above Target","Below Target")) -> No Price
B14: Recipe 6 | C14: =IF('Recipe 6'!C7="","—",'Recipe 6'!C7) -> — | D14: =IF('Recipe 6'!H7="","—",'Recipe 6'!H7) -> — | E14: ='Recipe 6'!C9 -> 1 | F14: ='Recipe 6'!F29 -> 0 | G14: ='Recipe 6'!F30 -> 0 | H14: ='Recipe 6'!F32 -> 0 | I14: ='Recipe 6'!F33 -> 0 | J14: ='Recipe 6'!F34 -> 0 | K14: =IF(H14=0,"No Price",IF(J14>=$C$6,"On/Above Target","Below Target")) -> No Price
B15: Recipe 7 | C15: =IF('Recipe 7'!C7="","—",'Recipe 7'!C7) -> — | D15: =IF('Recipe 7'!H7="","—",'Recipe 7'!H7) -> — | E15: ='Recipe 7'!C9 -> 1 | F15: ='Recipe 7'!F29 -> 0 | G15: ='Recipe 7'!F30 -> 0 | H15: ='Recipe 7'!F32 -> 0 | I15: ='Recipe 7'!F33 -> 0 | J15: ='Recipe 7'!F34 -> 0 | K15: =IF(H15=0,"No Price",IF(J15>=$C$6,"On/Above Target","Below Target")) -> No Price
B16: Recipe 8 | C16: =IF('Recipe 8'!C7="","—",'Recipe 8'!C7) -> — | D16: =IF('Recipe 8'!H7="","—",'Recipe 8'!H7) -> — | E16: ='Recipe 8'!C9 -> 1 | F16: ='Recipe 8'!F29 -> 0 | G16: ='Recipe 8'!F30 -> 0 | H16: ='Recipe 8'!F32 -> 0 | I16: ='Recipe 8'!F33 -> 0 | J16: ='Recipe 8'!F34 -> 0 | K16: =IF(H16=0,"No Price",IF(J16>=$C$6,"On/Above Target","Below Target")) -> No Price
B17: Recipe 9 | C17: =IF('Recipe 9'!C7="","—",'Recipe 9'!C7) -> — | D17: =IF('Recipe 9'!H7="","—",'Recipe 9'!H7) -> — | E17: ='Recipe 9'!C9 -> 1 | F17: ='Recipe 9'!F29 -> 0 | G17: ='Recipe 9'!F30 -> 0 | H17: ='Recipe 9'!F32 -> 0 | I17: ='Recipe 9'!F33 -> 0 | J17: ='Recipe 9'!F34 -> 0 | K17: =IF(H17=0,"No Price",IF(J17>=$C$6,"On/Above Target","Below Target")) -> No Price
B18: Recipe 10 | C18: =IF('Recipe 10'!C7="","—",'Recipe 10'!C7) -> — | D18: =IF('Recipe 10'!H7="","—",'Recipe 10'!H7) -> — | E18: ='Recipe 10'!C9 -> 1 | F18: ='Recipe 10'!F29 -> 0 | G18: ='Recipe 10'!F30 -> 0 | H18: ='Recipe 10'!F32 -> 0 | I18: ='Recipe 10'!F33 -> 0 | J18: ='Recipe 10'!F34 -> 0 | K18: =IF(H18=0,"No Price",IF(J18>=$C$6,"On/Above Target","Below Target")) -> No Price
B19: Recipe 11 | C19: =IF('Recipe 11'!C7="","—",'Recipe 11'!C7) -> — | D19: =IF('Recipe 11'!H7="","—",'Recipe 11'!H7) -> — | E19: ='Recipe 11'!C9 -> 1 | F19: ='Recipe 11'!F29 -> 0 | G19: ='Recipe 11'!F30 -> 0 | H19: ='Recipe 11'!F32 -> 0 | I19: ='Recipe 11'!F33 -> 0 | J19: ='Recipe 11'!F34 -> 0 | K19: =IF(H19=0,"No Price",IF(J19>=$C$6,"On/Above Target","Below Target")) -> No Price
B20: Recipe 12 | C20: =IF('Recipe 12'!C7="","—",'Recipe 12'!C7) -> — | D20: =IF('Recipe 12'!H7="","—",'Recipe 12'!H7) -> — | E20: ='Recipe 12'!C9 -> 1 | F20: ='Recipe 12'!F29 -> 0 | G20: ='Recipe 12'!F30 -> 0 | H20: ='Recipe 12'!F32 -> 0 | I20: ='Recipe 12'!F33 -> 0 | J20: ='Recipe 12'!F34 -> 0 | K20: =IF(H20=0,"No Price",IF(J20>=$C$6,"On/Above Target","Below Target")) -> No Price
B21: Recipe 13 | C21: =IF('Recipe 13'!C7="","—",'Recipe 13'!C7) -> — | D21: =IF('Recipe 13'!H7="","—",'Recipe 13'!H7) -> — | E21: ='Recipe 13'!C9 -> 1 | F21: ='Recipe 13'!F29 -> 0 | G21: ='Recipe 13'!F30 -> 0 | H21: ='Recipe 13'!F32 -> 0 | I21: ='Recipe 13'!F33 -> 0 | J21: ='Recipe 13'!F34 -> 0 | K21: =IF(H21=0,"No Price",IF(J21>=$C$6,"On/Above Target","Below Target")) -> No Price
B22: Recipe 14 | C22: =IF('Recipe 14'!C7="","—",'Recipe 14'!C7) -> — | D22: =IF('Recipe 14'!H7="","—",'Recipe 14'!H7) -> — | E22: ='Recipe 14'!C9 -> 1 | F22: ='Recipe 14'!F29 -> 0 | G22: ='Recipe 14'!F30 -> 0 | H22: ='Recipe 14'!F32 -> 0 | I22: ='Recipe 14'!F33 -> 0 | J22: ='Recipe 14'!F34 -> 0 | K22: =IF(H22=0,"No Price",IF(J22>=$C$6,"On/Above Target","Below Target")) -> No Price
B23: Recipe 15 | C23: =IF('Recipe 15'!C7="","—",'Recipe 15'!C7) -> — | D23: =IF('Recipe 15'!H7="","—",'Recipe 15'!H7) -> — | E23: ='Recipe 15'!C9 -> 1 | F23: ='Recipe 15'!F29 -> 0 | G23: ='Recipe 15'!F30 -> 0 | H23: ='Recipe 15'!F32 -> 0 | I23: ='Recipe 15'!F33 -> 0 | J23: ='Recipe 15'!F34 -> 0 | K23: =IF(H23=0,"No Price",IF(J23>=$C$6,"On/Above Target","Below Target")) -> No Price
B24: Recipe 16 | C24: =IF('Recipe 16'!C7="","—",'Recipe 16'!C7) -> — | D24: =IF('Recipe 16'!H7="","—",'Recipe 16'!H7) -> — | E24: ='Recipe 16'!C9 -> 1 | F24: ='Recipe 16'!F29 -> 0 | G24: ='Recipe 16'!F30 -> 0 | H24: ='Recipe 16'!F32 -> 0 | I24: ='Recipe 16'!F33 -> 0 | J24: ='Recipe 16'!F34 -> 0 | K24: =IF(H24=0,"No Price",IF(J24>=$C$6,"On/Above Target","Below Target")) -> No Price
B25: Recipe 17 | C25: =IF('Recipe 17'!C7="","—",'Recipe 17'!C7) -> — | D25: =IF('Recipe 17'!H7="","—",'Recipe 17'!H7) -> — | E25: ='Recipe 17'!C9 -> 1 | F25: ='Recipe 17'!F29 -> 0 | G25: ='Recipe 17'!F30 -> 0 | H25: ='Recipe 17'!F32 -> 0 | I25: ='Recipe 17'!F33 -> 0 | J25: ='Recipe 17'!F34 -> 0 | K25: =IF(H25=0,"No Price",IF(J25>=$C$6,"On/Above Target","Below Target")) -> No Price
B26: Recipe 18 | C26: =IF('Recipe 18'!C7="","—",'Recipe 18'!C7) -> — | D26: =IF('Recipe 18'!H7="","—",'Recipe 18'!H7) -> — | E26: ='Recipe 18'!C9 -> 1 | F26: ='Recipe 18'!F29 -> 0 | G26: ='Recipe 18'!F30 -> 0 | H26: ='Recipe 18'!F32 -> 0 | I26: ='Recipe 18'!F33 -> 0 | J26: ='Recipe 18'!F34 -> 0 | K26: =IF(H26=0,"No Price",IF(J26>=$C$6,"On/Above Target","Below Target")) -> No Price
B27: Recipe 19 | C27: =IF('Recipe 19'!C7="","—",'Recipe 19'!C7) -> — | D27: =IF('Recipe 19'!H7="","—",'Recipe 19'!H7) -> — | E27: ='Recipe 19'!C9 -> 1 | F27: ='Recipe 19'!F29 -> 0 | G27: ='Recipe 19'!F30 -> 0 | H27: ='Recipe 19'!F32 -> 0 | I27: ='Recipe 19'!F33 -> 0 | J27: ='Recipe 19'!F34 -> 0 | K27: =IF(H27=0,"No Price",IF(J27>=$C$6,"On/Above Target","Below Target")) -> No Price
B28: Recipe 20 | C28: =IF('Recipe 20'!C7="","—",'Recipe 20'!C7) -> — | D28: =IF('Recipe 20'!H7="","—",'Recipe 20'!H7) -> — | E28: ='Recipe 20'!C9 -> 1 | F28: ='Recipe 20'!F29 -> 0 | G28: ='Recipe 20'!F30 -> 0 | H28: ='Recipe 20'!F32 -> 0 | I28: ='Recipe 20'!F33 -> 0 | J28: ='Recipe 20'!F34 -> 0 | K28: =IF(H28=0,"No Price",IF(J28>=$C$6,"On/Above Target","Below Target")) -> No Price
B29: Recipe 21 | C29: =IF('Recipe 21'!C7="","—",'Recipe 21'!C7) -> — | D29: =IF('Recipe 21'!H7="","—",'Recipe 21'!H7) -> — | E29: ='Recipe 21'!C9 -> 1 | F29: ='Recipe 21'!F29 -> 0 | G29: ='Recipe 21'!F30 -> 0 | H29: ='Recipe 21'!F32 -> 0 | I29: ='Recipe 21'!F33 -> 0 | J29: ='Recipe 21'!F34 -> 0 | K29: =IF(H29=0,"No Price",IF(J29>=$C$6,"On/Above Target","Below Target")) -> No Price
B30: Recipe 22 | C30: =IF('Recipe 22'!C7="","—",'Recipe 22'!C7) -> — | D30: =IF('Recipe 22'!H7="","—",'Recipe 22'!H7) -> — | E30: ='Recipe 22'!C9 -> 1 | F30: ='Recipe 22'!F29 -> 0 | G30: ='Recipe 22'!F30 -> 0 | H30: ='Recipe 22'!F32 -> 0 | I30: ='Recipe 22'!F33 -> 0 | J30: ='Recipe 22'!F34 -> 0 | K30: =IF(H30=0,"No Price",IF(J30>=$C$6,"On/Above Target","Below Target")) -> No Price
B31: Recipe 23 | C31: =IF('Recipe 23'!C7="","—",'Recipe 23'!C7) -> — | D31: =IF('Recipe 23'!H7="","—",'Recipe 23'!H7) -> — | E31: ='Recipe 23'!C9 -> 1 | F31: ='Recipe 23'!F29 -> 0 | G31: ='Recipe 23'!F30 -> 0 | H31: ='Recipe 23'!F32 -> 0 | I31: ='Recipe 23'!F33 -> 0 | J31: ='Recipe 23'!F34 -> 0 | K31: =IF(H31=0,"No Price",IF(J31>=$C$6,"On/Above Target","Below Target")) -> No Price
B32: Recipe 24 | C32: =IF('Recipe 24'!C7="","—",'Recipe 24'!C7) -> — | D32: =IF('Recipe 24'!H7="","—",'Recipe 24'!H7) -> — | E32: ='Recipe 24'!C9 -> 1 | F32: ='Recipe 24'!F29 -> 0 | G32: ='Recipe 24'!F30 -> 0 | H32: ='Recipe 24'!F32 -> 0 | I32: ='Recipe 24'!F33 -> 0 | J32: ='Recipe 24'!F34 -> 0 | K32: =IF(H32=0,"No Price",IF(J32>=$C$6,"On/Above Target","Below Target")) -> No Price
B33: Recipe 25 | C33: =IF('Recipe 25'!C7="","—",'Recipe 25'!C7) -> — | D33: =IF('Recipe 25'!H7="","—",'Recipe 25'!H7) -> — | E33: ='Recipe 25'!C9 -> 1 | F33: ='Recipe 25'!F29 -> 0 | G33: ='Recipe 25'!F30 -> 0 | H33: ='Recipe 25'!F32 -> 0 | I33: ='Recipe 25'!F33 -> 0 | J33: ='Recipe 25'!F34 -> 0 | K33: =IF(H33=0,"No Price",IF(J33>=$C$6,"On/Above Target","Below Target")) -> No Price
B34: Recipe 26 | C34: =IF('Recipe 26'!C7="","—",'Recipe 26'!C7) -> — | D34: =IF('Recipe 26'!H7="","—",'Recipe 26'!H7) -> — | E34: ='Recipe 26'!C9 -> 1 | F34: ='Recipe 26'!F29 -> 0 | G34: ='Recipe 26'!F30 -> 0 | H34: ='Recipe 26'!F32 -> 0 | I34: ='Recipe 26'!F33 -> 0 | J34: ='Recipe 26'!F34 -> 0 | K34: =IF(H34=0,"No Price",IF(J34>=$C$6,"On/Above Target","Below Target")) -> No Price
B35: Recipe 27 | C35: =IF('Recipe 27'!C7="","—",'Recipe 27'!C7) -> — | D35: =IF('Recipe 27'!H7="","—",'Recipe 27'!H7) -> — | E35: ='Recipe 27'!C9 -> 1 | F35: ='Recipe 27'!F29 -> 0 | G35: ='Recipe 27'!F30 -> 0 | H35: ='Recipe 27'!F32 -> 0 | I35: ='Recipe 27'!F33 -> 0 | J35: ='Recipe 27'!F34 -> 0 | K35: =IF(H35=0,"No Price",IF(J35>=$C$6,"On/Above Target","Below Target")) -> No Price
B36: Recipe 28 | C36: =IF('Recipe 28'!C7="","—",'Recipe 28'!C7) -> — | D36: =IF('Recipe 28'!H7="","—",'Recipe 28'!H7) -> — | E36: ='Recipe 28'!C9 -> 1 | F36: ='Recipe 28'!F29 -> 0 | G36: ='Recipe 28'!F30 -> 0 | H36: ='Recipe 28'!F32 -> 0 | I36: ='Recipe 28'!F33 -> 0 | J36: ='Recipe 28'!F34 -> 0 | K36: =IF(H36=0,"No Price",IF(J36>=$C$6,"On/Above Target","Below Target")) -> No Price
B37: Recipe 29 | C37: =IF('Recipe 29'!C7="","—",'Recipe 29'!C7) -> — | D37: =IF('Recipe 29'!H7="","—",'Recipe 29'!H7) -> — | E37: ='Recipe 29'!C9 -> 1 | F37: ='Recipe 29'!F29 -> 0 | G37: ='Recipe 29'!F30 -> 0 | H37: ='Recipe 29'!F32 -> 0 | I37: ='Recipe 29'!F33 -> 0 | J37: ='Recipe 29'!F34 -> 0 | K37: =IF(H37=0,"No Price",IF(J37>=$C$6,"On/Above Target","Below Target")) -> No Price
B38: Recipe 30 | C38: =IF('Recipe 30'!C7="","—",'Recipe 30'!C7) -> — | D38: =IF('Recipe 30'!H7="","—",'Recipe 30'!H7) -> — | E38: ='Recipe 30'!C9 -> 1 | F38: ='Recipe 30'!F29 -> 0 | G38: ='Recipe 30'!F30 -> 0 | H38: ='Recipe 30'!F32 -> 0 | I38: ='Recipe 30'!F33 -> 0 | J38: ='Recipe 30'!F34 -> 0 | K38: =IF(H38=0,"No Price",IF(J38>=$C$6,"On/Above Target","Below Target")) -> No Price
B39: Average | F39: =IFERROR(AVERAGEIF(F9:F38,"<>0"),0) -> 9.05 | G39: =IFERROR(AVERAGEIF(G9:G38,"<>0"),0) -> 0.905 | H39: =IFERROR(AVERAGEIF(H9:H38,"<>0"),0) -> 3.5 | I39: =IFERROR(AVERAGEIF(I9:I38,"<>0"),0) -> 2.595 | J39: =IF(SUM(H9:H38)=0,0,SUM(I9:I38)/SUM(H9:H38)) -> 0.74142857 | K39: =IF(SUM(H9:H38)=0,"No Price",IF(J39>=$C$6,"On/Above Target","Below Target")) -> On/Above Target
B41: Cards below target GP % | E41: =COUNTIF(K9:K38,"Below Target") -> 0

Sheet Recipe 1
D2: Run a tighter kitchen. One platform. Total control.
B3: Recipe Costing Card — Recipe 1
B5: Legend: | C5: Yellow = enter data | F5: Target GP% is set on Recipe 1 and shared by every card
B7: Recipe Name | C7: Sample Recipe - Vanilla Crème | F7: Recipe Category | H7: Starter
B8: Date | C8: 2026-01-15 | F8: Portion Size | H8: 7.1 oz
B9: Yield (portions) | C9: 10 | F9: Target GP % | H9: 0.7
B11: =IF(C7="","(name this recipe)",C7) -> Sample Recipe - Vanilla Crème
B13: Ingredient | C13: Amount | D13: Unit | E13: Cost per Unit | F13: Total Cost | G13: % of Cost | H13: Notes
B14: Cream 35% | C14: 1 | D14: qt | E14: 4 | F14: =IF(OR(C14="",E14=""),0,C14*E14) -> 4 | G14: =IF($F$29=0,0,F14/$F$29) -> 0.44198895
B15: Whole Milk | C15: 0.5 | D15: qt | E15: 1.5 | F15: =IF(OR(C15="",E15=""),0,C15*E15) -> 0.75 | G15: =IF($F$29=0,0,F15/$F$29) -> 0.082872928
B16: Sugar | C16: 6.5 | D16: oz | E16: 0.4 | F16: =IF(OR(C16="",E16=""),0,C16*E16) -> 2.6 | G16: =IF($F$29=0,0,F16/$F$29) -> 0.28729282
B17: Vanilla Extract | C17: 0.02 | D17: qt | E17: 25 | F17: =IF(OR(C17="",E17=""),0,C17*E17) -> 0.5 | G17: =IF($F$29=0,0,F17/$F$29) -> 0.055248619
B18: Egg Yolk | C18: 4 | D18: oz | E18: 0.3 | F18: =IF(OR(C18="",E18=""),0,C18*E18) -> 1.2 | G18: =IF($F$29=0,0,F18/$F$29) -> 0.13259669
F19: =IF(OR(C19="",E19=""),0,C19*E19) -> 0 | G19: =IF($F$29=0,0,F19/$F$29) -> 0
F20: =IF(OR(C20="",E20=""),0,C20*E20) -> 0 | G20: =IF($F$29=0,0,F20/$F$29) -> 0
F21: =IF(OR(C21="",E21=""),0,C21*E21) -> 0 | G21: =IF($F$29=0,0,F21/$F$29) -> 0
F22: =IF(OR(C22="",E22=""),0,C22*E22) -> 0 | G22: =IF($F$29=0,0,F22/$F$29) -> 0
F23: =IF(OR(C23="",E23=""),0,C23*E23) -> 0 | G23: =IF($F$29=0,0,F23/$F$29) -> 0
F24: =IF(OR(C24="",E24=""),0,C24*E24) -> 0 | G24: =IF($F$29=0,0,F24/$F$29) -> 0
F25: =IF(OR(C25="",E25=""),0,C25*E25) -> 0 | G25: =IF($F$29=0,0,F25/$F$29) -> 0
F26: =IF(OR(C26="",E26=""),0,C26*E26) -> 0 | G26: =IF($F$29=0,0,F26/$F$29) -> 0
F27: =IF(OR(C27="",E27=""),0,C27*E27) -> 0 | G27: =IF($F$29=0,0,F27/$F$29) -> 0
E29: Cost per Recipe | F29: =SUM(F14:F27) -> 9.05
E30: Cost per Portion | F30: =IF(C9=0,0,F29/C9) -> 0.905
B32: Selling Price per Portion (ex VAT) | F32: 3.5
B33: Gross Profit per Portion | F33: =F32-F30 -> 2.595
B34: Gross Profit % | F34: =IF(F32=0,0,F33/F32) -> 0.74142857
B35: Food Cost % | F35: =IF(F32=0,0,F30/F32) -> 0.25857143
B36: Status vs Target GP % | F36: =IF(F32=0,"No Price",IF(F34>=H9,"On/Above Target","Below Target")) -> On/Above Target | H36: =IF(H9>=1,"",IF(F30=0,"","Target price: "&TEXT(F30/(1-H9),"£#,##0.00"))) -> Target price: £3.02
B38: Method | H38: Numbered steps — one per line
B39: 1
B40: 2
B41: 3
B42: 4
B43: 5
B44: 6
B45: 7
B46: 8

Sheet Recipe 2
D2: Run a tighter kitchen. One platform. Total control.
B3: Recipe Costing Card — Recipe 2
B5: Legend: | C5: Yellow = enter data | F5: Target GP% is linked from Recipe 1
B7: Recipe Name | F7: Recipe Category
B8: Date | F8: Portion Size
B9: Yield (portions) | C9: 1 | F9: Target GP % | H9: ='Recipe 1'!H9 -> 0.7
B11: =IF(C7="","(name this recipe)",C7) -> (name this recipe)
B13: Ingredient | C13: Amount | D13: Unit | E13: Cost per Unit | F13: Total Cost | G13: % of Cost | H13: Notes
F14: =IF(OR(C14="",E14=""),0,C14*E14) -> 0 | G14: =IF($F$29=0,0,F14/$F$29) -> 0
F15: =IF(OR(C15="",E15=""),0,C15*E15) -> 0 | G15: =IF($F$29=0,0,F15/$F$29) -> 0
F16: =IF(OR(C16="",E16=""),0,C16*E16) -> 0 | G16: =IF($F$29=0,0,F16/$F$29) -> 0
F17: =IF(OR(C17="",E17=""),0,C17*E17) -> 0 | G17: =IF($F$29=0,0,F17/$F$29) -> 0
F18: =IF(OR(C18="",E18=""),0,C18*E18) -> 0 | G18: =IF($F$29=0,0,F18/$F$29) -> 0
F19: =IF(OR(C19="",E19=""),0,C19*E19) -> 0 | G19: =IF($F$29=0,0,F19/$F$29) -> 0
F20: =IF(OR(C20="",E20=""),0,C20*E20) -> 0 | G20: =IF($F$29=0,0,F20/$F$29) -> 0
F21: =IF(OR(C21="",E21=""),0,C21*E21) -> 0 | G21: =IF($F$29=0,0,F21/$F$29) -> 0
F22: =IF(OR(C22="",E22=""),0,C22*E22) -> 0 | G22: =IF($F$29=0,0,F22/$F$29) -> 0
F23: =IF(OR(C23="",E23=""),0,C23*E23) -> 0 | G23: =IF($F$29=0,0,F23/$F$29) -> 0
F24: =IF(OR(C24="",E24=""),0,C24*E24) -> 0 | G24: =IF($F$29=0,0,F24/$F$29) -> 0
F25: =IF(OR(C25="",E25=""),0,C25*E25) -> 0 | G25: =IF($F$29=0,0,F25/$F$29) -> 0
... F27: =IF(OR(C27="",E27=""),0,C27*E27) -> 0 | G27: =IF($F$29=0,0,F27/$F$29) -> 0
E29: Cost per Recipe | F29: =SUM(F14:F27) -> 0
E30: Cost per Portion | F30: =IF(C9=0,0,F29/C9) -> 0
B32: Selling Price per Portion (ex VAT)
B33: Gross Profit per Portion | F33: =F32-F30 -> 0
B34: Gross Profit % | F34: =IF(F32=0,0,F33/F32) -> 0
B35: Food Cost % | F35: =IF(F32=0,0,F30/F32) -> 0
B36: Status vs Target GP % | F36: =IF(F32=0,"No Price",IF(F34>=H9,"On/Above Target","Below Target")) -> No Price | H36: =IF(H9>=1,"",IF(F30=0,"","Target price: "&TEXT(F30/(1-H9),"£#,##0.00")))
B38: Method | H38: Numbered steps — one per line
B39: 1
B40: 2
B41: 3
B42: 4
B43: 5
B44: 6
B45: 7
B46: 8

Sheet Recipe 3
D2: Run a tighter kitchen. One platform. Total control.
B3: Recipe Costing Card — Recipe 3
B5: Legend: | C5: Yellow = enter data | F5: Target GP% is linked from Recipe 1
B7: Recipe Name | F7: Recipe Category
B8: Date | F8: Portion Size
B9: Yield (portions) | C9: 1 | F9: Target GP % | H9: ='Recipe 1'!H9 -> 0.7
B11: =IF(C7="","(name this recipe)",C7) -> (name this recipe)
B13: Ingredient | C13: Amount | D13: Unit | E13: Cost per Unit | F13: Total Cost | G13: % of Cost | H13: Notes
F14: =IF(OR(C14="",E14=""),0,C14*E14) -> 0 | G14: =IF($F$29=0,0,F14/$F$29) -> 0
F15: =IF(OR(C15="",E15=""),0,C15*E15) -> 0 | G15: =IF($F$29=0,0,F15/$F$29) -> 0
F16: =IF(OR(C16="",E16=""),0,C16*E16) -> 0 | G16: =IF($F$29=0,0,F16/$F$29) -> 0
F17: =IF(OR(C17="",E17=""),0,C17*E17) -> 0 | G17: =IF($F$29=0,0,F17/$F$29) -> 0
F18: =IF(OR(C18="",E18=""),0,C18*E18) -> 0 | G18: =IF($F$29=0,0,F18/$F$29) -> 0
F19: =IF(OR(C19="",E19=""),0,C19*E19) -> 0 | G19: =IF($F$29=0,0,F19/$F$29) -> 0
F20: =IF(OR(C20="",E20=""),0,C20*E20) -> 0 | G20: =IF($F$29=0,0,F20/$F$29) -> 0
F21: =IF(OR(C21="",E21=""),0,C21*E21) -> 0 | G21: =IF($F$29=0,0,F21/$F$29) -> 0
F22: =IF(OR(C22="",E22=""),0,C22*E22) -> 0 | G22: =IF($F$29=0,0,F22/$F$29) -> 0
F23: =IF(OR(C23="",E23=""),0,C23*E23) -> 0 | G23: =IF($F$29=0,0,F23/$F$29) -> 0
F24: =IF(OR(C24="",E24=""),0,C24*E24) -> 0 | G24: =IF($F$29=0,0,F24/$F$29) -> 0
F25: =IF(OR(C25="",E25=""),0,C25*E25) -> 0 | G25: =IF($F$29=0,0,F25/$F$29) -> 0
... F27: =IF(OR(C27="",E27=""),0,C27*E27) -> 0 | G27: =IF($F$29=0,0,F27/$F$29) -> 0
E29: Cost per Recipe | F29: =SUM(F14:F27) -> 0
E30: Cost per Portion | F30: =IF(C9=0,0,F29/C9) -> 0
B32: Selling Price per Portion (ex VAT)
B33: Gross Profit per Portion | F33: =F32-F30 -> 0
B34: Gross Profit % | F34: =IF(F32=0,0,F33/F32) -> 0
B35: Food Cost % | F35: =IF(F32=0,0,F30/F32) -> 0
B36: Status vs Target GP % | F36: =IF(F32=0,"No Price",IF(F34>=H9,"On/Above Target","Below Target")) -> No Price | H36: =IF(H9>=1,"",IF(F30=0,"","Target price: "&TEXT(F30/(1-H9),"£#,##0.00")))
B38: Method | H38: Numbered steps — one per line
B39: 1
B40: 2
B41: 3
B42: 4
B43: 5
B44: 6
B45: 7
B46: 8

Sheet Recipe 4
D2: Run a tighter kitchen. One platform. Total control.
B3: Recipe Costing Card — Recipe 4
B5: Legend: | C5: Yellow = enter data | F5: Target GP% is linked from Recipe 1
B7: Recipe Name | F7: Recipe Category
B8: Date | F8: Portion Size
B9: Yield (portions) | C9: 1 | F9: Target GP % | H9: ='Recipe 1'!H9 -> 0.7
B11: =IF(C7="","(name this recipe)",C7) -> (name this recipe)
B13: Ingredient | C13: Amount | D13: Unit | E13: Cost per Unit | F13: Total Cost | G13: % of Cost | H13: Notes
F14: =IF(OR(C14="",E14=""),0,C14*E14) -> 0 | G14: =IF($F$29=0,0,F14/$F$29) -> 0
F15: =IF(OR(C15="",E15=""),0,C15*E15) -> 0 | G15: =IF($F$29=0,0,F15/$F$29) -> 0
F16: =IF(OR(C16="",E16=""),0,C16*E16) -> 0 | G16: =IF($F$29=0,0,F16/$F$29) -> 0
F17: =IF(OR(C17="",E17=""),0,C17*E17) -> 0 | G17: =IF($F$29=0,0,F17/$F$29) -> 0
F18: =IF(OR(C18="",E18=""),0,C18*E18) -> 0 | G18: =IF($F$29=0,0,F18/$F$29) -> 0
F19: =IF(OR(C19="",E19=""),0,C19*E19) -> 0 | G19: =IF($F$29=0,0,F19/$F$29) -> 0
F20: =IF(OR(C20="",E20=""),0,C20*E20) -> 0 | G20: =IF($F$29=0,0,F20/$F$29) -> 0
F21: =IF(OR(C21="",E21=""),0,C21*E21) -> 0 | G21: =IF($F$29=0,0,F21/$F$29) -> 0
F22: =IF(OR(C22="",E22=""),0,C22*E22) -> 0 | G22: =IF($F$29=0,0,F22/$F$29) -> 0
F23: =IF(OR(C23="",E23=""),0,C23*E23) -> 0 | G23: =IF($F$29=0,0,F23/$F$29) -> 0
F24: =IF(OR(C24="",E24=""),0,C24*E24) -> 0 | G24: =IF($F$29=0,0,F24/$F$29) -> 0
F25: =IF(OR(C25="",E25=""),0,C25*E25) -> 0 | G25: =IF($F$29=0,0,F25/$F$29) -> 0
... F27: =IF(OR(C27="",E27=""),0,C27*E27) -> 0 | G27: =IF($F$29=0,0,F27/$F$29) -> 0
E29: Cost per Recipe | F29: =SUM(F14:F27) -> 0
E30: Cost per Portion | F30: =IF(C9=0,0,F29/C9) -> 0
B32: Selling Price per Portion (ex VAT)
B33: Gross Profit per Portion | F33: =F32-F30 -> 0
B34: Gross Profit % | F34: =IF(F32=0,0,F33/F32) -> 0
B35: Food Cost % | F35: =IF(F32=0,0,F30/F32) -> 0
B36: Status vs Target GP % | F36: =IF(F32=0,"No Price",IF(F34>=H9,"On/Above Target","Below Target")) -> No Price | H36: =IF(H9>=1,"",IF(F30=0,"","Target price: "&TEXT(F30/(1-H9),"£#,##0.00")))
B38: Method | H38: Numbered steps — one per line
B39: 1
B40: 2
B41: 3
B42: 4
B43: 5
B44: 6
B45: 7
B46: 8

Sheet Recipe 5
D2: Run a tighter kitchen. One platform. Total control.
B3: Recipe Costing Card — Recipe 5
B5: Legend: | C5: Yellow = enter data | F5: Target GP% is linked from Recipe 1
B7: Recipe Name | F7: Recipe Category
B8: Date | F8: Portion Size
B9: Yield (portions) | C9: 1 | F9: Target GP % | H9: ='Recipe 1'!H9 -> 0.7
B11: =IF(C7="","(name this recipe)",C7) -> (name this recipe)
B13: Ingredient | C13: Amount | D13: Unit | E13: Cost per Unit | F13: Total Cost | G13: % of Cost | H13: Notes
F14: =IF(OR(C14="",E14=""),0,C14*E14) -> 0 | G14: =IF($F$29=0,0,F14/$F$29) -> 0
F15: =IF(OR(C15="",E15=""),0,C15*E15) -> 0 | G15: =IF($F$29=0,0,F15/$F$29) -> 0
F16: =IF(OR(C16="",E16=""),0,C16*E16) -> 0 | G16: =IF($F$29=0,0,F16/$F$29) -> 0
F17: =IF(OR(C17="",E17=""),0,C17*E17) -> 0 | G17: =IF($F$29=0,0,F17/$F$29) -> 0
F18: =IF(OR(C18="",E18=""),0,C18*E18) -> 0 | G18: =IF($F$29=0,0,F18/$F$29) -> 0
F19: =IF(OR(C19="",E19=""),0,C19*E19) -> 0 | G19: =IF($F$29=0,0,F19/$F$29) -> 0
F20: =IF(OR(C20="",E20=""),0,C20*E20) -> 0 | G20: =IF($F$29=0,0,F20/$F$29) -> 0
F21: =IF(OR(C21="",E21=""),0,C21*E21) -> 0 | G21: =IF($F$29=0,0,F21/$F$29) -> 0
F22: =IF(OR(C22="",E22=""),0,C22*E22) -> 0 | G22: =IF($F$29=0,0,F22/$F$29) -> 0
F23: =IF(OR(C23="",E23=""),0,C23*E23) -> 0 | G23: =IF($F$29=0,0,F23/$F$29) -> 0
F24: =IF(OR(C24="",E24=""),0,C24*E24) -> 0 | G24: =IF($F$29=0,0,F24/$F$29) -> 0
F25: =IF(OR(C25="",E25=""),0,C25*E25) -> 0 | G25: =IF($F$29=0,0,F25/$F$29) -> 0
... F27: =IF(OR(C27="",E27=""),0,C27*E27) -> 0 | G27: =IF($F$29=0,0,F27/$F$29) -> 0
E29: Cost per Recipe | F29: =SUM(F14:F27) -> 0
E30: Cost per Portion | F30: =IF(C9=0,0,F29/C9) -> 0
B32: Selling Price per Portion (ex VAT)
B33: Gross Profit per Portion | F33: =F32-F30 -> 0
B34: Gross Profit % | F34: =IF(F32=0,0,F33/F32) -> 0
B35: Food Cost % | F35: =IF(F32=0,0,F30/F32) -> 0
B36: Status vs Target GP % | F36: =IF(F32=0,"No Price",IF(F34>=H9,"On/Above Target","Below Target")) -> No Price | H36: =IF(H9>=1,"",IF(F30=0,"","Target price: "&TEXT(F30/(1-H9),"£#,##0.00")))
B38: Method | H38: Numbered steps — one per line
B39: 1
B40: 2
B41: 3
B42: 4
B43: 5
B44: 6
B45: 7
B46: 8

Sheet Recipe 6
D2: Run a tighter kitchen. One platform. Total control.
B3: Recipe Costing Card — Recipe 6
B5: Legend: | C5: Yellow = enter data | F5: Target GP% is linked from Recipe 1
B7: Recipe Name | F7: Recipe Category
B8: Date | F8: Portion Size
B9: Yield (portions) | C9: 1 | F9: Target GP % | H9: ='Recipe 1'!H9 -> 0.7
B11: =IF(C7="","(name this recipe)",C7) -> (name this recipe)
B13: Ingredient | C13: Amount | D13: Unit | E13: Cost per Unit | F13: Total Cost | G13: % of Cost | H13: Notes
F14: =IF(OR(C14="",E14=""),0,C14*E14) -> 0 | G14: =IF($F$29=0,0,F14/$F$29) -> 0
F15: =IF(OR(C15="",E15=""),0,C15*E15) -> 0 | G15: =IF($F$29=0,0,F15/$F$29) -> 0
F16: =IF(OR(C16="",E16=""),0,C16*E16) -> 0 | G16: =IF($F$29=0,0,F16/$F$29) -> 0
F17: =IF(OR(C17="",E17=""),0,C17*E17) -> 0 | G17: =IF($F$29=0,0,F17/$F$29) -> 0
F18: =IF(OR(C18="",E18=""),0,C18*E18) -> 0 | G18: =IF($F$29=0,0,F18/$F$29) -> 0
F19: =IF(OR(C19="",E19=""),0,C19*E19) -> 0 | G19: =IF($F$29=0,0,F19/$F$29) -> 0
F20: =IF(OR(C20="",E20=""),0,C20*E20) -> 0 | G20: =IF($F$29=0,0,F20/$F$29) -> 0
F21: =IF(OR(C21="",E21=""),0,C21*E21) -> 0 | G21: =IF($F$29=0,0,F21/$F$29) -> 0
F22: =IF(OR(C22="",E22=""),0,C22*E22) -> 0 | G22: =IF($F$29=0,0,F22/$F$29) -> 0
F23: =IF(OR(C23="",E23=""),0,C23*E23) -> 0 | G23: =IF($F$29=0,0,F23/$F$29) -> 0
F24: =IF(OR(C24="",E24=""),0,C24*E24) -> 0 | G24: =IF($F$29=0,0,F24/$F$29) -> 0
F25: =IF(OR(C25="",E25=""),0,C25*E25) -> 0 | G25: =IF($F$29=0,0,F25/$F$29) -> 0
... F27: =IF(OR(C27="",E27=""),0,C27*E27) -> 0 | G27: =IF($F$29=0,0,F27/$F$29) -> 0
E29: Cost per Recipe | F29: =SUM(F14:F27) -> 0
E30: Cost per Portion | F30: =IF(C9=0,0,F29/C9) -> 0
B32: Selling Price per Portion (ex VAT)
B33: Gross Profit per Portion | F33: =F32-F30 -> 0
B34: Gross Profit % | F34: =IF(F32=0,0,F33/F32) -> 0
B35: Food Cost % | F35: =IF(F32=0,0,F30/F32) -> 0
B36: Status vs Target GP % | F36: =IF(F32=0,"No Price",IF(F34>=H9,"On/Above Target","Below Target")) -> No Price | H36: =IF(H9>=1,"",IF(F30=0,"","Target price: "&TEXT(F30/(1-H9),"£#,##0.00")))
B38: Method | H38: Numbered steps — one per line
B39: 1
B40: 2
B41: 3
B42: 4
B43: 5
B44: 6
B45: 7
B46: 8

Sheet Recipe 7
D2: Run a tighter kitchen. One platform. Total control.
B3: Recipe Costing Card — Recipe 7
B5: Legend: | C5: Yellow = enter data | F5: Target GP% is linked from Recipe 1
B7: Recipe Name | F7: Recipe Category
B8: Date | F8: Portion Size
B9: Yield (portions) | C9: 1 | F9: Target GP % | H9: ='Recipe 1'!H9 -> 0.7
B11: =IF(C7="","(name this recipe)",C7) -> (name this recipe)
B13: Ingredient | C13: Amount | D13: Unit | E13: Cost per Unit | F13: Total Cost | G13: % of Cost | H13: Notes
F14: =IF(OR(C14="",E14=""),0,C14*E14) -> 0 | G14: =IF($F$29=0,0,F14/$F$29) -> 0
F15: =IF(OR(C15="",E15=""),0,C15*E15) -> 0 | G15: =IF($F$29=0,0,F15/$F$29) -> 0
F16: =IF(OR(C16="",E16=""),0,C16*E16) -> 0 | G16: =IF($F$29=0,0,F16/$F$29) -> 0
F17: =IF(OR(C17="",E17=""),0,C17*E17) -> 0 | G17: =IF($F$29=0,0,F17/$F$29) -> 0
F18: =IF(OR(C18="",E18=""),0,C18*E18) -> 0 | G18: =IF($F$29=0,0,F18/$F$29) -> 0
F19: =IF(OR(C19="",E19=""),0,C19*E19) -> 0 | G19: =IF($F$29=0,0,F19/$F$29) -> 0
F20: =IF(OR(C20="",E20=""),0,C20*E20) -> 0 | G20: =IF($F$29=0,0,F20/$F$29) -> 0
F21: =IF(OR(C21="",E21=""),0,C21*E21) -> 0 | G21: =IF($F$29=0,0,F21/$F$29) -> 0
F22: =IF(OR(C22="",E22=""),0,C22*E22) -> 0 | G22: =IF($F$29=0,0,F22/$F$29) -> 0
F23: =IF(OR(C23="",E23=""),0,C23*E23) -> 0 | G23: =IF($F$29=0,0,F23/$F$29) -> 0
F24: =IF(OR(C24="",E24=""),0,C24*E24) -> 0 | G24: =IF($F$29=0,0,F24/$F$29) -> 0
F25: =IF(OR(C25="",E25=""),0,C25*E25) -> 0 | G25: =IF($F$29=0,0,F25/$F$29) -> 0
... F27: =IF(OR(C27="",E27=""),0,C27*E27) -> 0 | G27: =IF($F$29=0,0,F27/$F$29) -> 0
E29: Cost per Recipe | F29: =SUM(F14:F27) -> 0
E30: Cost per Portion | F30: =IF(C9=0,0,F29/C9) -> 0
B32: Selling Price per Portion (ex VAT)
B33: Gross Profit per Portion | F33: =F32-F30 -> 0
B34: Gross Profit % | F34: =IF(F32=0,0,F33/F32) -> 0
B35: Food Cost % | F35: =IF(F32=0,0,F30/F32) -> 0
B36: Status vs Target GP % | F36: =IF(F32=0,"No Price",IF(F34>=H9,"On/Above Target","Below Target")) -> No Price | H36: =IF(H9>=1,"",IF(F30=0,"","Target price: "&TEXT(F30/(1-H9),"£#,##0.00")))
B38: Method | H38: Numbered steps — one per line
B39: 1
B40: 2
B41: 3
B42: 4
B43: 5
B44: 6
B45: 7
B46: 8

Sheet Recipe 8
D2: Run a tighter kitchen. One platform. Total control.
B3: Recipe Costing Card — Recipe 8
B5: Legend: | C5: Yellow = enter data | F5: Target GP% is linked from Recipe 1
B7: Recipe Name | F7: Recipe Category
B8: Date | F8: Portion Size
B9: Yield (portions) | C9: 1 | F9: Target GP % | H9: ='Recipe 1'!H9 -> 0.7
B11: =IF(C7="","(name this recipe)",C7) -> (name this recipe)
B13: Ingredient | C13: Amount | D13: Unit | E13: Cost per Unit | F13: Total Cost | G13: % of Cost | H13: Notes
F14: =IF(OR(C14="",E14=""),0,C14*E14) -> 0 | G14: =IF($F$29=0,0,F14/$F$29) -> 0
F15: =IF(OR(C15="",E15=""),0,C15*E15) -> 0 | G15: =IF($F$29=0,0,F15/$F$29) -> 0
F16: =IF(OR(C16="",E16=""),0,C16*E16) -> 0 | G16: =IF($F$29=0,0,F16/$F$29) -> 0
F17: =IF(OR(C17="",E17=""),0,C17*E17) -> 0 | G17: =IF($F$29=0,0,F17/$F$29) -> 0
F18: =IF(OR(C18="",E18=""),0,C18*E18) -> 0 | G18: =IF($F$29=0,0,F18/$F$29) -> 0
F19: =IF(OR(C19="",E19=""),0,C19*E19) -> 0 | G19: =IF($F$29=0,0,F19/$F$29) -> 0
F20: =IF(OR(C20="",E20=""),0,C20*E20) -> 0 | G20: =IF($F$29=0,0,F20/$F$29) -> 0
F21: =IF(OR(C21="",E21=""),0,C21*E21) -> 0 | G21: =IF($F$29=0,0,F21/$F$29) -> 0
F22: =IF(OR(C22="",E22=""),0,C22*E22) -> 0 | G22: =IF($F$29=0,0,F22/$F$29) -> 0
F23: =IF(OR(C23="",E23=""),0,C23*E23) -> 0 | G23: =IF($F$29=0,0,F23/$F$29) -> 0
F24: =IF(OR(C24="",E24=""),0,C24*E24) -> 0 | G24: =IF($F$29=0,0,F24/$F$29) -> 0
F25: =IF(OR(C25="",E25=""),0,C25*E25) -> 0 | G25: =IF($F$29=0,0,F25/$F$29) -> 0
... F27: =IF(OR(C27="",E27=""),0,C27*E27) -> 0 | G27: =IF($F$29=0,0,F27/$F$29) -> 0
E29: Cost per Recipe | F29: =SUM(F14:F27) -> 0
E30: Cost per Portion | F30: =IF(C9=0,0,F29/C9) -> 0
B32: Selling Price per Portion (ex VAT)
B33: Gross Profit per Portion | F33: =F32-F30 -> 0
B34: Gross Profit % | F34: =IF(F32=0,0,F33/F32) -> 0
B35: Food Cost % | F35: =IF(F32=0,0,F30/F32) -> 0
B36: Status vs Target GP % | F36: =IF(F32=0,"No Price",IF(F34>=H9,"On/Above Target","Below Target")) -> No Price | H36: =IF(H9>=1,"",IF(F30=0,"","Target price: "&TEXT(F30/(1-H9),"£#,##0.00")))
B38: Method | H38: Numbered steps — one per line
B39: 1
B40: 2
B41: 3
B42: 4
B43: 5
B44: 6
B45: 7
B46: 8

Sheet Recipe 9
D2: Run a tighter kitchen. One platform. Total control.
B3: Recipe Costing Card — Recipe 9
B5: Legend: | C5: Yellow = enter data | F5: Target GP% is linked from Recipe 1
B7: Recipe Name | F7: Recipe Category
B8: Date | F8: Portion Size
B9: Yield (portions) | C9: 1 | F9: Target GP % | H9: ='Recipe 1'!H9 -> 0.7
B11: =IF(C7="","(name this recipe)",C7) -> (name this recipe)
B13: Ingredient | C13: Amount | D13: Unit | E13: Cost per Unit | F13: Total Cost | G13: % of Cost | H13: Notes
F14: =IF(OR(C14="",E14=""),0,C14*E14) -> 0 | G14: =IF($F$29=0,0,F14/$F$29) -> 0
F15: =IF(OR(C15="",E15=""),0,C15*E15) -> 0 | G15: =IF($F$29=0,0,F15/$F$29) -> 0
F16: =IF(OR(C16="",E16=""),0,C16*E16) -> 0 | G16: =IF($F$29=0,0,F16/$F$29) -> 0
F17: =IF(OR(C17="",E17=""),0,C17*E17) -> 0 | G17: =IF($F$29=0,0,F17/$F$29) -> 0
F18: =IF(OR(C18="",E18=""),0,C18*E18) -> 0 | G18: =IF($F$29=0,0,F18/$F$29) -> 0
F19: =IF(OR(C19="",E19=""),0,C19*E19) -> 0 | G19: =IF($F$29=0,0,F19/$F$29) -> 0
F20: =IF(OR(C20="",E20=""),0,C20*E20) -> 0 | G20: =IF($F$29=0,0,F20/$F$29) -> 0
F21: =IF(OR(C21="",E21=""),0,C21*E21) -> 0 | G21: =IF($F$29=0,0,F21/$F$29) -> 0
F22: =IF(OR(C22="",E22=""),0,C22*E22) -> 0 | G22: =IF($F$29=0,0,F22/$F$29) -> 0
F23: =IF(OR(C23="",E23=""),0,C23*E23) -> 0 | G23: =IF($F$29=0,0,F23/$F$29) -> 0
F24: =IF(OR(C24="",E24=""),0,C24*E24) -> 0 | G24: =IF($F$29=0,0,F24/$F$29) -> 0
F25: =IF(OR(C25="",E25=""),0,C25*E25) -> 0 | G25: =IF($F$29=0,0,F25/$F$29) -> 0
... F27: =IF(OR(C27="",E27=""),0,C27*E27) -> 0 | G27: =IF($F$29=0,0,F27/$F$29) -> 0
E29: Cost per Recipe | F29: =SUM(F14:F27) -> 0
E30: Cost per Portion | F30: =IF(C9=0,0,F29/C9) -> 0
B32: Selling Price per Portion (ex VAT)
B33: Gross Profit per Portion | F33: =F32-F30 -> 0
B34: Gross Profit % | F34: =IF(F32=0,0,F33/F32) -> 0
B35: Food Cost % | F35: =IF(F32=0,0,F30/F32) -> 0
B36: Status vs Target GP % | F36: =IF(F32=0,"No Price",IF(F34>=H9,"On/Above Target","Below Target")) -> No Price | H36: =IF(H9>=1,"",IF(F30=0,"","Target price: "&TEXT(F30/(1-H9),"£#,##0.00")))
B38: Method | H38: Numbered steps — one per line
B39: 1
B40: 2
B41: 3
B42: 4
B43: 5
B44: 6
B45: 7
B46: 8

Sheet Recipe 10
D2: Run a tighter kitchen. One platform. Total control.
B3: Recipe Costing Card — Recipe 10
B5: Legend: | C5: Yellow = enter data | F5: Target GP% is linked from Recipe 1
B7: Recipe Name | F7: Recipe Category
B8: Date | F8: Portion Size
B9: Yield (portions) | C9: 1 | F9: Target GP % | H9: ='Recipe 1'!H9 -> 0.7
B11: =IF(C7="","(name this recipe)",C7) -> (name this recipe)
B13: Ingredient | C13: Amount | D13: Unit | E13: Cost per Unit | F13: Total Cost | G13: % of Cost | H13: Notes
F14: =IF(OR(C14="",E14=""),0,C14*E14) -> 0 | G14: =IF($F$29=0,0,F14/$F$29) -> 0
F15: =IF(OR(C15="",E15=""),0,C15*E15) -> 0 | G15: =IF($F$29=0,0,F15/$F$29) -> 0
F16: =IF(OR(C16="",E16=""),0,C16*E16) -> 0 | G16: =IF($F$29=0,0,F16/$F$29) -> 0
F17: =IF(OR(C17="",E17=""),0,C17*E17) -> 0 | G17: =IF($F$29=0,0,F17/$F$29) -> 0
F18: =IF(OR(C18="",E18=""),0,C18*E18) -> 0 | G18: =IF($F$29=0,0,F18/$F$29) -> 0
F19: =IF(OR(C19="",E19=""),0,C19*E19) -> 0 | G19: =IF($F$29=0,0,F19/$F$29) -> 0
F20: =IF(OR(C20="",E20=""),0,C20*E20) -> 0 | G20: =IF($F$29=0,0,F20/$F$29) -> 0
F21: =IF(OR(C21="",E21=""),0,C21*E21) -> 0 | G21: =IF($F$29=0,0,F21/$F$29) -> 0
F22: =IF(OR(C22="",E22=""),0,C22*E22) -> 0 | G22: =IF($F$29=0,0,F22/$F$29) -> 0
F23: =IF(OR(C23="",E23=""),0,C23*E23) -> 0 | G23: =IF($F$29=0,0,F23/$F$29) -> 0
F24: =IF(OR(C24="",E24=""),0,C24*E24) -> 0 | G24: =IF($F$29=0,0,F24/$F$29) -> 0
F25: =IF(OR(C25="",E25=""),0,C25*E25) -> 0 | G25: =IF($F$29=0,0,F25/$F$29) -> 0
... F27: =IF(OR(C27="",E27=""),0,C27*E27) -> 0 | G27: =IF($F$29=0,0,F27/$F$29) -> 0
E29: Cost per Recipe | F29: =SUM(F14:F27) -> 0
E30: Cost per Portion | F30: =IF(C9=0,0,F29/C9) -> 0
B32: Selling Price per Portion (ex VAT)
B33: Gross Profit per Portion | F33: =F32-F30 -> 0
B34: Gross Profit % | F34: =IF(F32=0,0,F33/F32) -> 0
B35: Food Cost % | F35: =IF(F32=0,0,F30/F32) -> 0
B36: Status vs Target GP % | F36: =IF(F32=0,"No Price",IF(F34>=H9,"On/Above Target","Below Target")) -> No Price | H36: =IF(H9>=1,"",IF(F30=0,"","Target price: "&TEXT(F30/(1-H9),"£#,##0.00")))
B38: Method | H38: Numbered steps — one per line
B39: 1
B40: 2
B41: 3
B42: 4
B43: 5
B44: 6
B45: 7
B46: 8

Sheet Recipe 11
D2: Run a tighter kitchen. One platform. Total control.
B3: Recipe Costing Card — Recipe 11
B5: Legend: | C5: Yellow = enter data | F5: Target GP% is linked from Recipe 1
B7: Recipe Name | F7: Recipe Category
B8: Date | F8: Portion Size
B9: Yield (portions) | C9: 1 | F9: Target GP % | H9: ='Recipe 1'!H9 -> 0.7
B11: =IF(C7="","(name this recipe)",C7) -> (name this recipe)
B13: Ingredient | C13: Amount | D13: Unit | E13: Cost per Unit | F13: Total Cost | G13: % of Cost | H13: Notes
F14: =IF(OR(C14="",E14=""),0,C14*E14) -> 0 | G14: =IF($F$29=0,0,F14/$F$29) -> 0
F15: =IF(OR(C15="",E15=""),0,C15*E15) -> 0 | G15: =IF($F$29=0,0,F15/$F$29) -> 0
F16: =IF(OR(C16="",E16=""),0,C16*E16) -> 0 | G16: =IF($F$29=0,0,F16/$F$29) -> 0
F17: =IF(OR(C17="",E17=""),0,C17*E17) -> 0 | G17: =IF($F$29=0,0,F17/$F$29) -> 0
F18: =IF(OR(C18="",E18=""),0,C18*E18) -> 0 | G18: =IF($F$29=0,0,F18/$F$29) -> 0
F19: =IF(OR(C19="",E19=""),0,C19*E19) -> 0 | G19: =IF($F$29=0,0,F19/$F$29) -> 0
F20: =IF(OR(C20="",E20=""),0,C20*E20) -> 0 | G20: =IF($F$29=0,0,F20/$F$29) -> 0
F21: =IF(OR(C21="",E21=""),0,C21*E21) -> 0 | G21: =IF($F$29=0,0,F21/$F$29) -> 0
F22: =IF(OR(C22="",E22=""),0,C22*E22) -> 0 | G22: =IF($F$29=0,0,F22/$F$29) -> 0
F23: =IF(OR(C23="",E23=""),0,C23*E23) -> 0 | G23: =IF($F$29=0,0,F23/$F$29) -> 0
F24: =IF(OR(C24="",E24=""),0,C24*E24) -> 0 | G24: =IF($F$29=0,0,F24/$F$29) -> 0
F25: =IF(OR(C25="",E25=""),0,C25*E25) -> 0 | G25: =IF($F$29=0,0,F25/$F$29) -> 0
... F27: =IF(OR(C27="",E27=""),0,C27*E27) -> 0 | G27: =IF($F$29=0,0,F27/$F$29) -> 0
E29: Cost per Recipe | F29: =SUM(F14:F27) -> 0
E30: Cost per Portion | F30: =IF(C9=0,0,F29/C9) -> 0
B32: Selling Price per Portion (ex VAT)
B33: Gross Profit per Portion | F33: =F32-F30 -> 0
B34: Gross Profit % | F34: =IF(F32=0,0,F33/F32) -> 0
B35: Food Cost % | F35: =IF(F32=0,0,F30/F32) -> 0
B36: Status vs Target GP % | F36: =IF(F32=0,"No Price",IF(F34>=H9,"On/Above Target","Below Target")) -> No Price | H36: =IF(H9>=1,"",IF(F30=0,"","Target price: "&TEXT(F30/(1-H9),"£#,##0.00")))
B38: Method | H38: Numbered steps — one per line
B39: 1
B40: 2
B41: 3
B42: 4
B43: 5
B44: 6
B45: 7
B46: 8

Sheet Recipe 12
D2: Run a tighter kitchen. One platform. Total control.
B3: Recipe Costing Card — Recipe 12
B5: Legend: | C5: Yellow = enter data | F5: Target GP% is linked from Recipe 1
B7: Recipe Name | F7: Recipe Category
B8: Date | F8: Portion Size
B9: Yield (portions) | C9: 1 | F9: Target GP % | H9: ='Recipe 1'!H9 -> 0.7
B11: =IF(C7="","(name this recipe)",C7) -> (name this recipe)
B13: Ingredient | C13: Amount | D13: Unit | E13: Cost per Unit | F13: Total Cost | G13: % of Cost | H13: Notes
F14: =IF(OR(C14="",E14=""),0,C14*E14) -> 0 | G14: =IF($F$29=0,0,F14/$F$29) -> 0
F15: =IF(OR(C15="",E15=""),0,C15*E15) -> 0 | G15: =IF($F$29=0,0,F15/$F$29) -> 0
F16: =IF(OR(C16="",E16=""),0,C16*E16) -> 0 | G16: =IF($F$29=0,0,F16/$F$29) -> 0
F17: =IF(OR(C17="",E17=""),0,C17*E17) -> 0 | G17: =IF($F$29=0,0,F17/$F$29) -> 0
F18: =IF(OR(C18="",E18=""),0,C18*E18) -> 0 | G18: =IF($F$29=0,0,F18/$F$29) -> 0
F19: =IF(OR(C19="",E19=""),0,C19*E19) -> 0 | G19: =IF($F$29=0,0,F19/$F$29) -> 0
F20: =IF(OR(C20="",E20=""),0,C20*E20) -> 0 | G20: =IF($F$29=0,0,F20/$F$29) -> 0
F21: =IF(OR(C21="",E21=""),0,C21*E21) -> 0 | G21: =IF($F$29=0,0,F21/$F$29) -> 0
F22: =IF(OR(C22="",E22=""),0,C22*E22) -> 0 | G22: =IF($F$29=0,0,F22/$F$29) -> 0
F23: =IF(OR(C23="",E23=""),0,C23*E23) -> 0 | G23: =IF($F$29=0,0,F23/$F$29) -> 0
F24: =IF(OR(C24="",E24=""),0,C24*E24) -> 0 | G24: =IF($F$29=0,0,F24/$F$29) -> 0
F25: =IF(OR(C25="",E25=""),0,C25*E25) -> 0 | G25: =IF($F$29=0,0,F25/$F$29) -> 0
... F27: =IF(OR(C27="",E27=""),0,C27*E27) -> 0 | G27: =IF($F$29=0,0,F27/$F$29) -> 0
E29: Cost per Recipe | F29: =SUM(F14:F27) -> 0
E30: Cost per Portion | F30: =IF(C9=0,0,F29/C9) -> 0
B32: Selling Price per Portion (ex VAT)
B33: Gross Profit per Portion | F33: =F32-F30 -> 0
B34: Gross Profit % | F34: =IF(F32=0,0,F33/F32) -> 0
B35: Food Cost % | F35: =IF(F32=0,0,F30/F32) -> 0
B36: Status vs Target GP % | F36: =IF(F32=0,"No Price",IF(F34>=H9,"On/Above Target","Below Target")) -> No Price | H36: =IF(H9>=1,"",IF(F30=0,"","Target price: "&TEXT(F30/(1-H9),"£#,##0.00")))
B38: Method | H38: Numbered steps — one per line
B39: 1
B40: 2
B41: 3
B42: 4
B43: 5
B44: 6
B45: 7
B46: 8

Sheet Recipe 13
D2: Run a tighter kitchen. One platform. Total control.
B3: Recipe Costing Card — Recipe 13
B5: Legend: | C5: Yellow = enter data | F5: Target GP% is linked from Recipe 1
B7: Recipe Name | F7: Recipe Category
B8: Date | F8: Portion Size
B9: Yield (portions) | C9: 1 | F9: Target GP % | H9: ='Recipe 1'!H9 -> 0.7
B11: =IF(C7="","(name this recipe)",C7) -> (name this recipe)
B13: Ingredient | C13: Amount | D13: Unit | E13: Cost per Unit | F13: Total Cost | G13: % of Cost | H13: Notes
F14: =IF(OR(C14="",E14=""),0,C14*E14) -> 0 | G14: =IF($F$29=0,0,F14/$F$29) -> 0
F15: =IF(OR(C15="",E15=""),0,C15*E15) -> 0 | G15: =IF($F$29=0,0,F15/$F$29) -> 0
F16: =IF(OR(C16="",E16=""),0,C16*E16) -> 0 | G16: =IF($F$29=0,0,F16/$F$29) -> 0
F17: =IF(OR(C17="",E17=""),0,C17*E17) -> 0 | G17: =IF($F$29=0,0,F17/$F$29) -> 0
F18: =IF(OR(C18="",E18=""),0,C18*E18) -> 0 | G18: =IF($F$29=0,0,F18/$F$29) -> 0
F19: =IF(OR(C19="",E19=""),0,C19*E19) -> 0 | G19: =IF($F$29=0,0,F19/$F$29) -> 0
F20: =IF(OR(C20="",E20=""),0,C20*E20) -> 0 | G20: =IF($F$29=0,0,F20/$F$29) -> 0
F21: =IF(OR(C21="",E21=""),0,C21*E21) -> 0 | G21: =IF($F$29=0,0,F21/$F$29) -> 0
F22: =IF(OR(C22="",E22=""),0,C22*E22) -> 0 | G22: =IF($F$29=0,0,F22/$F$29) -> 0
F23: =IF(OR(C23="",E23=""),0,C23*E23) -> 0 | G23: =IF($F$29=0,0,F23/$F$29) -> 0
F24: =IF(OR(C24="",E24=""),0,C24*E24) -> 0 | G24: =IF($F$29=0,0,F24/$F$29) -> 0
F25: =IF(OR(C25="",E25=""),0,C25*E25) -> 0 | G25: =IF($F$29=0,0,F25/$F$29) -> 0
... F27: =IF(OR(C27="",E27=""),0,C27*E27) -> 0 | G27: =IF($F$29=0,0,F27/$F$29) -> 0
E29: Cost per Recipe | F29: =SUM(F14:F27) -> 0
E30: Cost per Portion | F30: =IF(C9=0,0,F29/C9) -> 0
B32: Selling Price per Portion (ex VAT)
B33: Gross Profit per Portion | F33: =F32-F30 -> 0
B34: Gross Profit % | F34: =IF(F32=0,0,F33/F32) -> 0
B35: Food Cost % | F35: =IF(F32=0,0,F30/F32) -> 0
B36: Status vs Target GP % | F36: =IF(F32=0,"No Price",IF(F34>=H9,"On/Above Target","Below Target")) -> No Price | H36: =IF(H9>=1,"",IF(F30=0,"","Target price: "&TEXT(F30/(1-H9),"£#,##0.00")))
B38: Method | H38: Numbered steps — one per line
B39: 1
B40: 2
B41: 3
B42: 4
B43: 5
B44: 6
B45: 7
B46: 8

Sheet Recipe 14
D2: Run a tighter kitchen. One platform. Total control.
B3: Recipe Costing Card — Recipe 14
B5: Legend: | C5: Yellow = enter data | F5: Target GP% is linked from Recipe 1
B7: Recipe Name | F7: Recipe Category
B8: Date | F8: Portion Size
B9: Yield (portions) | C9: 1 | F9: Target GP % | H9: ='Recipe 1'!H9 -> 0.7
B11: =IF(C7="","(name this recipe)",C7) -> (name this recipe)
B13: Ingredient | C13: Amount | D13: Unit | E13: Cost per Unit | F13: Total Cost | G13: % of Cost | H13: Notes
F14: =IF(OR(C14="",E14=""),0,C14*E14) -> 0 | G14: =IF($F$29=0,0,F14/$F$29) -> 0
F15: =IF(OR(C15="",E15=""),0,C15*E15) -> 0 | G15: =IF($F$29=0,0,F15/$F$29) -> 0
F16: =IF(OR(C16="",E16=""),0,C16*E16) -> 0 | G16: =IF($F$29=0,0,F16/$F$29) -> 0
F17: =IF(OR(C17="",E17=""),0,C17*E17) -> 0 | G17: =IF($F$29=0,0,F17/$F$29) -> 0
F18: =IF(OR(C18="",E18=""),0,C18*E18) -> 0 | G18: =IF($F$29=0,0,F18/$F$29) -> 0
F19: =IF(OR(C19="",E19=""),0,C19*E19) -> 0 | G19: =IF($F$29=0,0,F19/$F$29) -> 0
F20: =IF(OR(C20="",E20=""),0,C20*E20) -> 0 | G20: =IF($F$29=0,0,F20/$F$29) -> 0
F21: =IF(OR(C21="",E21=""),0,C21*E21) -> 0 | G21: =IF($F$29=0,0,F21/$F$29) -> 0
F22: =IF(OR(C22="",E22=""),0,C22*E22) -> 0 | G22: =IF($F$29=0,0,F22/$F$29) -> 0
F23: =IF(OR(C23="",E23=""),0,C23*E23) -> 0 | G23: =IF($F$29=0,0,F23/$F$29) -> 0
F24: =IF(OR(C24="",E24=""),0,C24*E24) -> 0 | G24: =IF($F$29=0,0,F24/$F$29) -> 0
F25: =IF(OR(C25="",E25=""),0,C25*E25) -> 0 | G25: =IF($F$29=0,0,F25/$F$29) -> 0
... F27: =IF(OR(C27="",E27=""),0,C27*E27) -> 0 | G27: =IF($F$29=0,0,F27/$F$29) -> 0
E29: Cost per Recipe | F29: =SUM(F14:F27) -> 0
E30: Cost per Portion | F30: =IF(C9=0,0,F29/C9) -> 0
B32: Selling Price per Portion (ex VAT)
B33: Gross Profit per Portion | F33: =F32-F30 -> 0
B34: Gross Profit % | F34: =IF(F32=0,0,F33/F32) -> 0
B35: Food Cost % | F35: =IF(F32=0,0,F30/F32) -> 0
B36: Status vs Target GP % | F36: =IF(F32=0,"No Price",IF(F34>=H9,"On/Above Target","Below Target")) -> No Price | H36: =IF(H9>=1,"",IF(F30=0,"","Target price: "&TEXT(F30/(1-H9),"£#,##0.00")))
B38: Method | H38: Numbered steps — one per line
B39: 1
B40: 2
B41: 3
B42: 4
B43: 5
B44: 6
B45: 7
B46: 8

Sheet Recipe 15
D2: Run a tighter kitchen. One platform. Total control.
B3: Recipe Costing Card — Recipe 15
B5: Legend: | C5: Yellow = enter data | F5: Target GP% is linked from Recipe 1
B7: Recipe Name | F7: Recipe Category
B8: Date | F8: Portion Size
B9: Yield (portions) | C9: 1 | F9: Target GP % | H9: ='Recipe 1'!H9 -> 0.7
B11: =IF(C7="","(name this recipe)",C7) -> (name this recipe)
B13: Ingredient | C13: Amount | D13: Unit | E13: Cost per Unit | F13: Total Cost | G13: % of Cost | H13: Notes
F14: =IF(OR(C14="",E14=""),0,C14*E14) -> 0 | G14: =IF($F$29=0,0,F14/$F$29) -> 0
F15: =IF(OR(C15="",E15=""),0,C15*E15) -> 0 | G15: =IF($F$29=0,0,F15/$F$29) -> 0
F16: =IF(OR(C16="",E16=""),0,C16*E16) -> 0 | G16: =IF($F$29=0,0,F16/$F$29) -> 0
F17: =IF(OR(C17="",E17=""),0,C17*E17) -> 0 | G17: =IF($F$29=0,0,F17/$F$29) -> 0
F18: =IF(OR(C18="",E18=""),0,C18*E18) -> 0 | G18: =IF($F$29=0,0,F18/$F$29) -> 0
F19: =IF(OR(C19="",E19=""),0,C19*E19) -> 0 | G19: =IF($F$29=0,0,F19/$F$29) -> 0
F20: =IF(OR(C20="",E20=""),0,C20*E20) -> 0 | G20: =IF($F$29=0,0,F20/$F$29) -> 0
F21: =IF(OR(C21="",E21=""),0,C21*E21) -> 0 | G21: =IF($F$29=0,0,F21/$F$29) -> 0
F22: =IF(OR(C22="",E22=""),0,C22*E22) -> 0 | G22: =IF($F$29=0,0,F22/$F$29) -> 0
F23: =IF(OR(C23="",E23=""),0,C23*E23) -> 0 | G23: =IF($F$29=0,0,F23/$F$29) -> 0
F24: =IF(OR(C24="",E24=""),0,C24*E24) -> 0 | G24: =IF($F$29=0,0,F24/$F$29) -> 0
F25: =IF(OR(C25="",E25=""),0,C25*E25) -> 0 | G25: =IF($F$29=0,0,F25/$F$29) -> 0
... F27: =IF(OR(C27="",E27=""),0,C27*E27) -> 0 | G27: =IF($F$29=0,0,F27/$F$29) -> 0
E29: Cost per Recipe | F29: =SUM(F14:F27) -> 0
E30: Cost per Portion | F30: =IF(C9=0,0,F29/C9) -> 0
B32: Selling Price per Portion (ex VAT)
B33: Gross Profit per Portion | F33: =F32-F30 -> 0
B34: Gross Profit % | F34: =IF(F32=0,0,F33/F32) -> 0
B35: Food Cost % | F35: =IF(F32=0,0,F30/F32) -> 0
B36: Status vs Target GP % | F36: =IF(F32=0,"No Price",IF(F34>=H9,"On/Above Target","Below Target")) -> No Price | H36: =IF(H9>=1,"",IF(F30=0,"","Target price: "&TEXT(F30/(1-H9),"£#,##0.00")))
B38: Method | H38: Numbered steps — one per line
B39: 1
B40: 2
B41: 3
B42: 4
B43: 5
B44: 6
B45: 7
B46: 8

Sheet Recipe 16
D2: Run a tighter kitchen. One platform. Total control.
B3: Recipe Costing Card — Recipe 16
B5: Legend: | C5: Yellow = enter data | F5: Target GP% is linked from Recipe 1
B7: Recipe Name | F7: Recipe Category
B8: Date | F8: Portion Size
B9: Yield (portions) | C9: 1 | F9: Target GP % | H9: ='Recipe 1'!H9 -> 0.7
B11: =IF(C7="","(name this recipe)",C7) -> (name this recipe)
B13: Ingredient | C13: Amount | D13: Unit | E13: Cost per Unit | F13: Total Cost | G13: % of Cost | H13: Notes
F14: =IF(OR(C14="",E14=""),0,C14*E14) -> 0 | G14: =IF($F$29=0,0,F14/$F$29) -> 0
F15: =IF(OR(C15="",E15=""),0,C15*E15) -> 0 | G15: =IF($F$29=0,0,F15/$F$29) -> 0
F16: =IF(OR(C16="",E16=""),0,C16*E16) -> 0 | G16: =IF($F$29=0,0,F16/$F$29) -> 0
F17: =IF(OR(C17="",E17=""),0,C17*E17) -> 0 | G17: =IF($F$29=0,0,F17/$F$29) -> 0
F18: =IF(OR(C18="",E18=""),0,C18*E18) -> 0 | G18: =IF($F$29=0,0,F18/$F$29) -> 0
F19: =IF(OR(C19="",E19=""),0,C19*E19) -> 0 | G19: =IF($F$29=0,0,F19/$F$29) -> 0
F20: =IF(OR(C20="",E20=""),0,C20*E20) -> 0 | G20: =IF($F$29=0,0,F20/$F$29) -> 0
F21: =IF(OR(C21="",E21=""),0,C21*E21) -> 0 | G21: =IF($F$29=0,0,F21/$F$29) -> 0
F22: =IF(OR(C22="",E22=""),0,C22*E22) -> 0 | G22: =IF($F$29=0,0,F22/$F$29) -> 0
F23: =IF(OR(C23="",E23=""),0,C23*E23) -> 0 | G23: =IF($F$29=0,0,F23/$F$29) -> 0
F24: =IF(OR(C24="",E24=""),0,C24*E24) -> 0 | G24: =IF($F$29=0,0,F24/$F$29) -> 0
F25: =IF(OR(C25="",E25=""),0,C25*E25) -> 0 | G25: =IF($F$29=0,0,F25/$F$29) -> 0
... F27: =IF(OR(C27="",E27=""),0,C27*E27) -> 0 | G27: =IF($F$29=0,0,F27/$F$29) -> 0
E29: Cost per Recipe | F29: =SUM(F14:F27) -> 0
E30: Cost per Portion | F30: =IF(C9=0,0,F29/C9) -> 0
B32: Selling Price per Portion (ex VAT)
B33: Gross Profit per Portion | F33: =F32-F30 -> 0
B34: Gross Profit % | F34: =IF(F32=0,0,F33/F32) -> 0
B35: Food Cost % | F35: =IF(F32=0,0,F30/F32) -> 0
B36: Status vs Target GP % | F36: =IF(F32=0,"No Price",IF(F34>=H9,"On/Above Target","Below Target")) -> No Price | H36: =IF(H9>=1,"",IF(F30=0,"","Target price: "&TEXT(F30/(1-H9),"£#,##0.00")))
B38: Method | H38: Numbered steps — one per line
B39: 1
B40: 2
B41: 3
B42: 4
B43: 5
B44: 6
B45: 7
B46: 8

Sheet Recipe 17
D2: Run a tighter kitchen. One platform. Total control.
B3: Recipe Costing Card — Recipe 17
B5: Legend: | C5: Yellow = enter data | F5: Target GP% is linked from Recipe 1
B7: Recipe Name | F7: Recipe Category
B8: Date | F8: Portion Size
B9: Yield (portions) | C9: 1 | F9: Target GP % | H9: ='Recipe 1'!H9 -> 0.7
B11: =IF(C7="","(name this recipe)",C7) -> (name this recipe)
B13: Ingredient | C13: Amount | D13: Unit | E13: Cost per Unit | F13: Total Cost | G13: % of Cost | H13: Notes
F14: =IF(OR(C14="",E14=""),0,C14*E14) -> 0 | G14: =IF($F$29=0,0,F14/$F$29) -> 0
F15: =IF(OR(C15="",E15=""),0,C15*E15) -> 0 | G15: =IF($F$29=0,0,F15/$F$29) -> 0
F16: =IF(OR(C16="",E16=""),0,C16*E16) -> 0 | G16: =IF($F$29=0,0,F16/$F$29) -> 0
F17: =IF(OR(C17="",E17=""),0,C17*E17) -> 0 | G17: =IF($F$29=0,0,F17/$F$29) -> 0
F18: =IF(OR(C18="",E18=""),0,C18*E18) -> 0 | G18: =IF($F$29=0,0,F18/$F$29) -> 0
F19: =IF(OR(C19="",E19=""),0,C19*E19) -> 0 | G19: =IF($F$29=0,0,F19/$F$29) -> 0
F20: =IF(OR(C20="",E20=""),0,C20*E20) -> 0 | G20: =IF($F$29=0,0,F20/$F$29) -> 0
F21: =IF(OR(C21="",E21=""),0,C21*E21) -> 0 | G21: =IF($F$29=0,0,F21/$F$29) -> 0
F22: =IF(OR(C22="",E22=""),0,C22*E22) -> 0 | G22: =IF($F$29=0,0,F22/$F$29) -> 0
F23: =IF(OR(C23="",E23=""),0,C23*E23) -> 0 | G23: =IF($F$29=0,0,F23/$F$29) -> 0
F24: =IF(OR(C24="",E24=""),0,C24*E24) -> 0 | G24: =IF($F$29=0,0,F24/$F$29) -> 0
F25: =IF(OR(C25="",E25=""),0,C25*E25) -> 0 | G25: =IF($F$29=0,0,F25/$F$29) -> 0
... F27: =IF(OR(C27="",E27=""),0,C27*E27) -> 0 | G27: =IF($F$29=0,0,F27/$F$29) -> 0
E29: Cost per Recipe | F29: =SUM(F14:F27) -> 0
E30: Cost per Portion | F30: =IF(C9=0,0,F29/C9) -> 0
B32: Selling Price per Portion (ex VAT)
B33: Gross Profit per Portion | F33: =F32-F30 -> 0
B34: Gross Profit % | F34: =IF(F32=0,0,F33/F32) -> 0
B35: Food Cost % | F35: =IF(F32=0,0,F30/F32) -> 0
B36: Status vs Target GP % | F36: =IF(F32=0,"No Price",IF(F34>=H9,"On/Above Target","Below Target")) -> No Price | H36: =IF(H9>=1,"",IF(F30=0,"","Target price: "&TEXT(F30/(1-H9),"£#,##0.00")))
B38: Method | H38: Numbered steps — one per line
B39: 1
B40: 2
B41: 3
B42: 4
B43: 5
B44: 6
B45: 7
B46: 8

Sheet Recipe 18
D2: Run a tighter kitchen. One platform. Total control.
B3: Recipe Costing Card — Recipe 18
B5: Legend: | C5: Yellow = enter data | F5: Target GP% is linked from Recipe 1
B7: Recipe Name | F7: Recipe Category
B8: Date | F8: Portion Size
B9: Yield (portions) | C9: 1 | F9: Target GP % | H9: ='Recipe 1'!H9 -> 0.7
B11: =IF(C7="","(name this recipe)",C7) -> (name this recipe)
B13: Ingredient | C13: Amount | D13: Unit | E13: Cost per Unit | F13: Total Cost | G13: % of Cost | H13: Notes
F14: =IF(OR(C14="",E14=""),0,C14*E14) -> 0 | G14: =IF($F$29=0,0,F14/$F$29) -> 0
F15: =IF(OR(C15="",E15=""),0,C15*E15) -> 0 | G15: =IF($F$29=0,0,F15/$F$29) -> 0
F16: =IF(OR(C16="",E16=""),0,C16*E16) -> 0 | G16: =IF($F$29=0,0,F16/$F$29) -> 0
F17: =IF(OR(C17="",E17=""),0,C17*E17) -> 0 | G17: =IF($F$29=0,0,F17/$F$29) -> 0
F18: =IF(OR(C18="",E18=""),0,C18*E18) -> 0 | G18: =IF($F$29=0,0,F18/$F$29) -> 0
F19: =IF(OR(C19="",E19=""),0,C19*E19) -> 0 | G19: =IF($F$29=0,0,F19/$F$29) -> 0
F20: =IF(OR(C20="",E20=""),0,C20*E20) -> 0 | G20: =IF($F$29=0,0,F20/$F$29) -> 0
F21: =IF(OR(C21="",E21=""),0,C21*E21) -> 0 | G21: =IF($F$29=0,0,F21/$F$29) -> 0
F22: =IF(OR(C22="",E22=""),0,C22*E22) -> 0 | G22: =IF($F$29=0,0,F22/$F$29) -> 0
F23: =IF(OR(C23="",E23=""),0,C23*E23) -> 0 | G23: =IF($F$29=0,0,F23/$F$29) -> 0
F24: =IF(OR(C24="",E24=""),0,C24*E24) -> 0 | G24: =IF($F$29=0,0,F24/$F$29) -> 0
F25: =IF(OR(C25="",E25=""),0,C25*E25) -> 0 | G25: =IF($F$29=0,0,F25/$F$29) -> 0
... F27: =IF(OR(C27="",E27=""),0,C27*E27) -> 0 | G27: =IF($F$29=0,0,F27/$F$29) -> 0
E29: Cost per Recipe | F29: =SUM(F14:F27) -> 0
E30: Cost per Portion | F30: =IF(C9=0,0,F29/C9) -> 0
B32: Selling Price per Portion (ex VAT)
B33: Gross Profit per Portion | F33: =F32-F30 -> 0
B34: Gross Profit % | F34: =IF(F32=0,0,F33/F32) -> 0
B35: Food Cost % | F35: =IF(F32=0,0,F30/F32) -> 0
B36: Status vs Target GP % | F36: =IF(F32=0,"No Price",IF(F34>=H9,"On/Above Target","Below Target")) -> No Price | H36: =IF(H9>=1,"",IF(F30=0,"","Target price: "&TEXT(F30/(1-H9),"£#,##0.00")))
B38: Method | H38: Numbered steps — one per line
B39: 1
B40: 2
B41: 3
B42: 4
B43: 5
B44: 6
B45: 7
B46: 8

Sheet Recipe 19
D2: Run a tighter kitchen. One platform. Total control.
B3: Recipe Costing Card — Recipe 19
B5: Legend: | C5: Yellow = enter data | F5: Target GP% is linked from Recipe 1
B7: Recipe Name | F7: Recipe Category
B8: Date | F8: Portion Size
B9: Yield (portions) | C9: 1 | F9: Target GP % | H9: ='Recipe 1'!H9 -> 0.7
B11: =IF(C7="","(name this recipe)",C7) -> (name this recipe)
B13: Ingredient | C13: Amount | D13: Unit | E13: Cost per Unit | F13: Total Cost | G13: % of Cost | H13: Notes
F14: =IF(OR(C14="",E14=""),0,C14*E14) -> 0 | G14: =IF($F$29=0,0,F14/$F$29) -> 0
F15: =IF(OR(C15="",E15=""),0,C15*E15) -> 0 | G15: =IF($F$29=0,0,F15/$F$29) -> 0
F16: =IF(OR(C16="",E16=""),0,C16*E16) -> 0 | G16: =IF($F$29=0,0,F16/$F$29) -> 0
F17: =IF(OR(C17="",E17=""),0,C17*E17) -> 0 | G17: =IF($F$29=0,0,F17/$F$29) -> 0
F18: =IF(OR(C18="",E18=""),0,C18*E18) -> 0 | G18: =IF($F$29=0,0,F18/$F$29) -> 0
F19: =IF(OR(C19="",E19=""),0,C19*E19) -> 0 | G19: =IF($F$29=0,0,F19/$F$29) -> 0
F20: =IF(OR(C20="",E20=""),0,C20*E20) -> 0 | G20: =IF($F$29=0,0,F20/$F$29) -> 0
F21: =IF(OR(C21="",E21=""),0,C21*E21) -> 0 | G21: =IF($F$29=0,0,F21/$F$29) -> 0
F22: =IF(OR(C22="",E22=""),0,C22*E22) -> 0 | G22: =IF($F$29=0,0,F22/$F$29) -> 0
F23: =IF(OR(C23="",E23=""),0,C23*E23) -> 0 | G23: =IF($F$29=0,0,F23/$F$29) -> 0
F24: =IF(OR(C24="",E24=""),0,C24*E24) -> 0 | G24: =IF($F$29=0,0,F24/$F$29) -> 0
F25: =IF(OR(C25="",E25=""),0,C25*E25) -> 0 | G25: =IF($F$29=0,0,F25/$F$29) -> 0
... F27: =IF(OR(C27="",E27=""),0,C27*E27) -> 0 | G27: =IF($F$29=0,0,F27/$F$29) -> 0
E29: Cost per Recipe | F29: =SUM(F14:F27) -> 0
E30: Cost per Portion | F30: =IF(C9=0,0,F29/C9) -> 0
B32: Selling Price per Portion (ex VAT)
B33: Gross Profit per Portion | F33: =F32-F30 -> 0
B34: Gross Profit % | F34: =IF(F32=0,0,F33/F32) -> 0
B35: Food Cost % | F35: =IF(F32=0,0,F30/F32) -> 0
B36: Status vs Target GP % | F36: =IF(F32=0,"No Price",IF(F34>=H9,"On/Above Target","Below Target")) -> No Price | H36: =IF(H9>=1,"",IF(F30=0,"","Target price: "&TEXT(F30/(1-H9),"£#,##0.00")))
B38: Method | H38: Numbered steps — one per line
B39: 1
B40: 2
B41: 3
B42: 4
B43: 5
B44: 6
B45: 7
B46: 8

Sheet Recipe 20
D2: Run a tighter kitchen. One platform. Total control.
B3: Recipe Costing Card — Recipe 20
B5: Legend: | C5: Yellow = enter data | F5: Target GP% is linked from Recipe 1
B7: Recipe Name | F7: Recipe Category
B8: Date | F8: Portion Size
B9: Yield (portions) | C9: 1 | F9: Target GP % | H9: ='Recipe 1'!H9 -> 0.7
B11: =IF(C7="","(name this recipe)",C7) -> (name this recipe)
B13: Ingredient | C13: Amount | D13: Unit | E13: Cost per Unit | F13: Total Cost | G13: % of Cost | H13: Notes
F14: =IF(OR(C14="",E14=""),0,C14*E14) -> 0 | G14: =IF($F$29=0,0,F14/$F$29) -> 0
F15: =IF(OR(C15="",E15=""),0,C15*E15) -> 0 | G15: =IF($F$29=0,0,F15/$F$29) -> 0
F16: =IF(OR(C16="",E16=""),0,C16*E16) -> 0 | G16: =IF($F$29=0,0,F16/$F$29) -> 0
F17: =IF(OR(C17="",E17=""),0,C17*E17) -> 0 | G17: =IF($F$29=0,0,F17/$F$29) -> 0
F18: =IF(OR(C18="",E18=""),0,C18*E18) -> 0 | G18: =IF($F$29=0,0,F18/$F$29) -> 0
F19: =IF(OR(C19="",E19=""),0,C19*E19) -> 0 | G19: =IF($F$29=0,0,F19/$F$29) -> 0
F20: =IF(OR(C20="",E20=""),0,C20*E20) -> 0 | G20: =IF($F$29=0,0,F20/$F$29) -> 0
F21: =IF(OR(C21="",E21=""),0,C21*E21) -> 0 | G21: =IF($F$29=0,0,F21/$F$29) -> 0
F22: =IF(OR(C22="",E22=""),0,C22*E22) -> 0 | G22: =IF($F$29=0,0,F22/$F$29) -> 0
F23: =IF(OR(C23="",E23=""),0,C23*E23) -> 0 | G23: =IF($F$29=0,0,F23/$F$29) -> 0
F24: =IF(OR(C24="",E24=""),0,C24*E24) -> 0 | G24: =IF($F$29=0,0,F24/$F$29) -> 0
F25: =IF(OR(C25="",E25=""),0,C25*E25) -> 0 | G25: =IF($F$29=0,0,F25/$F$29) -> 0
... F27: =IF(OR(C27="",E27=""),0,C27*E27) -> 0 | G27: =IF($F$29=0,0,F27/$F$29) -> 0
E29: Cost per Recipe | F29: =SUM(F14:F27) -> 0
E30: Cost per Portion | F30: =IF(C9=0,0,F29/C9) -> 0
B32: Selling Price per Portion (ex VAT)
B33: Gross Profit per Portion | F33: =F32-F30 -> 0
B34: Gross Profit % | F34: =IF(F32=0,0,F33/F32) -> 0
B35: Food Cost % | F35: =IF(F32=0,0,F30/F32) -> 0
B36: Status vs Target GP % | F36: =IF(F32=0,"No Price",IF(F34>=H9,"On/Above Target","Below Target")) -> No Price | H36: =IF(H9>=1,"",IF(F30=0,"","Target price: "&TEXT(F30/(1-H9),"£#,##0.00")))
B38: Method | H38: Numbered steps — one per line
B39: 1
B40: 2
B41: 3
B42: 4
B43: 5
B44: 6
B45: 7
B46: 8

Sheet Recipe 21
D2: Run a tighter kitchen. One platform. Total control.
B3: Recipe Costing Card — Recipe 21
B5: Legend: | C5: Yellow = enter data | F5: Target GP% is linked from Recipe 1
B7: Recipe Name | F7: Recipe Category
B8: Date | F8: Portion Size
B9: Yield (portions) | C9: 1 | F9: Target GP % | H9: ='Recipe 1'!H9 -> 0.7
B11: =IF(C7="","(name this recipe)",C7) -> (name this recipe)
B13: Ingredient | C13: Amount | D13: Unit | E13: Cost per Unit | F13: Total Cost | G13: % of Cost | H13: Notes
F14: =IF(OR(C14="",E14=""),0,C14*E14) -> 0 | G14: =IF($F$29=0,0,F14/$F$29) -> 0
F15: =IF(OR(C15="",E15=""),0,C15*E15) -> 0 | G15: =IF($F$29=0,0,F15/$F$29) -> 0
F16: =IF(OR(C16="",E16=""),0,C16*E16) -> 0 | G16: =IF($F$29=0,0,F16/$F$29) -> 0
F17: =IF(OR(C17="",E17=""),0,C17*E17) -> 0 | G17: =IF($F$29=0,0,F17/$F$29) -> 0
F18: =IF(OR(C18="",E18=""),0,C18*E18) -> 0 | G18: =IF($F$29=0,0,F18/$F$29) -> 0
F19: =IF(OR(C19="",E19=""),0,C19*E19) -> 0 | G19: =IF($F$29=0,0,F19/$F$29) -> 0
F20: =IF(OR(C20="",E20=""),0,C20*E20) -> 0 | G20: =IF($F$29=0,0,F20/$F$29) -> 0
F21: =IF(OR(C21="",E21=""),0,C21*E21) -> 0 | G21: =IF($F$29=0,0,F21/$F$29) -> 0
F22: =IF(OR(C22="",E22=""),0,C22*E22) -> 0 | G22: =IF($F$29=0,0,F22/$F$29) -> 0
F23: =IF(OR(C23="",E23=""),0,C23*E23) -> 0 | G23: =IF($F$29=0,0,F23/$F$29) -> 0
F24: =IF(OR(C24="",E24=""),0,C24*E24) -> 0 | G24: =IF($F$29=0,0,F24/$F$29) -> 0
F25: =IF(OR(C25="",E25=""),0,C25*E25) -> 0 | G25: =IF($F$29=0,0,F25/$F$29) -> 0
... F27: =IF(OR(C27="",E27=""),0,C27*E27) -> 0 | G27: =IF($F$29=0,0,F27/$F$29) -> 0
E29: Cost per Recipe | F29: =SUM(F14:F27) -> 0
E30: Cost per Portion | F30: =IF(C9=0,0,F29/C9) -> 0
B32: Selling Price per Portion (ex VAT)
B33: Gross Profit per Portion | F33: =F32-F30 -> 0
B34: Gross Profit % | F34: =IF(F32=0,0,F33/F32) -> 0
B35: Food Cost % | F35: =IF(F32=0,0,F30/F32) -> 0
B36: Status vs Target GP % | F36: =IF(F32=0,"No Price",IF(F34>=H9,"On/Above Target","Below Target")) -> No Price | H36: =IF(H9>=1,"",IF(F30=0,"","Target price: "&TEXT(F30/(1-H9),"£#,##0.00")))
B38: Method | H38: Numbered steps — one per line
B39: 1
B40: 2
B41: 3
B42: 4
B43: 5
B44: 6
B45: 7
B46: 8

Sheet Recipe 22
D2: Run a tighter kitchen. One platform. Total control.
B3: Recipe Costing Card — Recipe 22
B5: Legend: | C5: Yellow = enter data | F5: Target GP% is linked from Recipe 1
B7: Recipe Name | F7: Recipe Category
B8: Date | F8: Portion Size
B9: Yield (portions) | C9: 1 | F9: Target GP % | H9: ='Recipe 1'!H9 -> 0.7
B11: =IF(C7="","(name this recipe)",C7) -> (name this recipe)
B13: Ingredient | C13: Amount | D13: Unit | E13: Cost per Unit | F13: Total Cost | G13: % of Cost | H13: Notes
F14: =IF(OR(C14="",E14=""),0,C14*E14) -> 0 | G14: =IF($F$29=0,0,F14/$F$29) -> 0
F15: =IF(OR(C15="",E15=""),0,C15*E15) -> 0 | G15: =IF($F$29=0,0,F15/$F$29) -> 0
F16: =IF(OR(C16="",E16=""),0,C16*E16) -> 0 | G16: =IF($F$29=0,0,F16/$F$29) -> 0
F17: =IF(OR(C17="",E17=""),0,C17*E17) -> 0 | G17: =IF($F$29=0,0,F17/$F$29) -> 0
F18: =IF(OR(C18="",E18=""),0,C18*E18) -> 0 | G18: =IF($F$29=0,0,F18/$F$29) -> 0
F19: =IF(OR(C19="",E19=""),0,C19*E19) -> 0 | G19: =IF($F$29=0,0,F19/$F$29) -> 0
F20: =IF(OR(C20="",E20=""),0,C20*E20) -> 0 | G20: =IF($F$29=0,0,F20/$F$29) -> 0
F21: =IF(OR(C21="",E21=""),0,C21*E21) -> 0 | G21: =IF($F$29=0,0,F21/$F$29) -> 0
F22: =IF(OR(C22="",E22=""),0,C22*E22) -> 0 | G22: =IF($F$29=0,0,F22/$F$29) -> 0
F23: =IF(OR(C23="",E23=""),0,C23*E23) -> 0 | G23: =IF($F$29=0,0,F23/$F$29) -> 0
F24: =IF(OR(C24="",E24=""),0,C24*E24) -> 0 | G24: =IF($F$29=0,0,F24/$F$29) -> 0
F25: =IF(OR(C25="",E25=""),0,C25*E25) -> 0 | G25: =IF($F$29=0,0,F25/$F$29) -> 0
... F27: =IF(OR(C27="",E27=""),0,C27*E27) -> 0 | G27: =IF($F$29=0,0,F27/$F$29) -> 0
E29: Cost per Recipe | F29: =SUM(F14:F27) -> 0
E30: Cost per Portion | F30: =IF(C9=0,0,F29/C9) -> 0
B32: Selling Price per Portion (ex VAT)
B33: Gross Profit per Portion | F33: =F32-F30 -> 0
B34: Gross Profit % | F34: =IF(F32=0,0,F33/F32) -> 0
B35: Food Cost % | F35: =IF(F32=0,0,F30/F32) -> 0
B36: Status vs Target GP % | F36: =IF(F32=0,"No Price",IF(F34>=H9,"On/Above Target","Below Target")) -> No Price | H36: =IF(H9>=1,"",IF(F30=0,"","Target price: "&TEXT(F30/(1-H9),"£#,##0.00")))
B38: Method | H38: Numbered steps — one per line
B39: 1
B40: 2
B41: 3
B42: 4
B43: 5
B44: 6
B45: 7
B46: 8

Sheet Recipe 23
D2: Run a tighter kitchen. One platform. Total control.
